BEGIN:VCALENDAR
VERSION:2.0
PRODID:-//ChamberMaster//Event Calendar 2.0//EN
METHOD:PUBLISH
X-PUBLISHED-TTL:P3D
REFRESH-INTERVAL:P3D
CALSCALE:GREGORIAN
BEGIN:VEVENT
DTSTART:20151003T140000Z
DTEND:20151003T160000Z
X-MICROSOFT-CDO-ALLDAYEVENT:FALSE
SUMMARY:Document Destruction and Electronics Recycling - CANCELED DUE TO WEATHER
DESCRIPTION:Keep Union County Beautiful and the North Georgia Resource Management Authority are working with Document Destruction Services and Atlanta Recycling Solutions to provide free document destruction and electronic recycling for the residents of Union County on October 3\, 2015.  Citizens can bring personal documents for destruction and a certificate of destrucion will be provided upon request.
X-ALT-DESC;FMTTYPE=text/html:Keep Union County Beautiful and the North Georgia Resource Management Authority are working with Document Destruction Services and Atlanta Recycling Solutions to provide free document destruction and electronic recycling for the residents of Union County on October 3\, 2015.&nbsp\; Citizens can bring personal documents for destruction and a certificate of destrucion will be provided upon request.
LOCATION:Keep Our Mountains Beautiful will hold this event in the parking lot of North Georgia Technical College located at 121 Meeks Avenue\, Blairsville\, GA 30512.
UID:e.256.44213
SEQUENCE:3
DTSTAMP:20260423T103646Z
URL:https://members.visitblairsvillega.com/events/details/document-destruction-and-electronics-recycling-canceled-due-to-weather-10-03-2015-44213
END:VEVENT

END:VCALENDAR
