BEGIN:VCALENDAR
VERSION:2.0
PRODID:-//ChamberMaster//Event Calendar 2.0//EN
METHOD:PUBLISH
X-PUBLISHED-TTL:P3D
REFRESH-INTERVAL:P3D
CALSCALE:GREGORIAN
BEGIN:VEVENT
DTSTART:20160716T220000Z
DTEND:20160717T020000Z
X-MICROSOFT-CDO-ALLDAYEVENT:FALSE
SUMMARY:Dodge Ram/ Union Co. Saddle Club Bluegrass Festival
DESCRIPTION:Join us for a night of family fun featuring The Band Kelley\, bungee jumping for the kids\, and food from the concession stand. Gates open at 6:00 pm. Music begins at 8:00 pm. $10 per adult\, $5 per child or $20 a car load.
X-ALT-DESC;FMTTYPE=text/html:Join us for a night of family fun featuring The Band Kelley\, bungee jumping for the kids\, and food from the concession stand. Gates open at 6:00 pm. Music begins at 8:00 pm. $10 per adult\, $5 per child or $20 a car load.
LOCATION:Union Co. Saddle Club covered arena- right off of Hwy 515 on Hwy 325
UID:e.256.53649
SEQUENCE:3
DTSTAMP:20260420T184512Z
URL:https://members.visitblairsvillega.com/events/details/dodge-ram-union-co-saddle-club-bluegrass-festival-07-16-2016-53649
END:VEVENT

END:VCALENDAR
