BEGIN:VCALENDAR
VERSION:2.0
PRODID:-//ChamberMaster//Event Calendar 2.0//EN
METHOD:PUBLISH
X-PUBLISHED-TTL:P3D
REFRESH-INTERVAL:P3D
CALSCALE:GREGORIAN
BEGIN:VEVENT
DTSTART:20150829T210000Z
DTEND:20150829T220000Z
X-MICROSOFT-CDO-ALLDAYEVENT:FALSE
SUMMARY:Dog Obedience & Agility Classes
DESCRIPTION:Free Classes in basic dog obedience/agility. Graduates compete during Pet Celebration September 12th on the Hayesville Square
X-ALT-DESC;FMTTYPE=text/html:Free Classes in basic dog obedience/agility. Graduates compete during Pet Celebration September 12th on the Hayesville Square
LOCATION:Hayesville Square\, Hayesville\, NC
UID:e.256.41299
SEQUENCE:3
DTSTAMP:20260423T133804Z
URL:https://members.visitblairsvillega.com/events/details/dog-obedience-agility-classes-08-29-2015-41299
END:VEVENT

END:VCALENDAR
