BEGIN:VCALENDAR
VERSION:2.0
PRODID:-//ChamberMaster//Event Calendar 2.0//EN
METHOD:PUBLISH
X-PUBLISHED-TTL:P3D
REFRESH-INTERVAL:P3D
CALSCALE:GREGORIAN
BEGIN:VEVENT
DTSTART:20160724T210000Z
DTEND:20160724T220000Z
X-MICROSOFT-CDO-ALLDAYEVENT:FALSE
SUMMARY:Dog Obedience and Agility Classes
DESCRIPTION:Free classes in basic obedience and agility training.  In connection with Clay County Pet Celebration - September 10th on Hayesville Square.  Classes held @ 5:00 pm on Sundays\, July 17 through September 4.  Call Linda Vanderlaan for details @ 828-389-0804 or email:  vanderlaanD_L@frontier.com
X-ALT-DESC;FMTTYPE=text/html:Free classes in basic obedience and agility training. &nbsp\;In connection with Clay County Pet Celebration - September 10th on Hayesville Square. &nbsp\;Classes held @ 5:00 pm on Sundays\, July 17 through September 4. &nbsp\;Call Linda Vanderlaan for details @ 828-389-0804 or email: &nbsp\;vanderlaanD_L@frontier.com
LOCATION:Hayesville Square in Hayesville NC
UID:e.256.54018
SEQUENCE:3
DTSTAMP:20260420T183616Z
URL:https://members.visitblairsvillega.com/events/details/dog-obedience-and-agility-classes-07-24-2016-54018
END:VEVENT

END:VCALENDAR
