BEGIN:VCALENDAR
VERSION:2.0
PRODID:-//ChamberMaster//Event Calendar 2.0//EN
METHOD:PUBLISH
X-PUBLISHED-TTL:P3D
REFRESH-INTERVAL:P3D
CALSCALE:GREGORIAN
BEGIN:VEVENT
DTSTART:20140112T000000Z
DTEND:20140112T000000Z
X-MICROSOFT-CDO-ALLDAYEVENT:FALSE
SUMMARY:Don Byers at Copperhead Lodge
DESCRIPTION:An Evening of Entertainment\n\n\n\nDon Byers and the talented Keren Leppo of Atlanta\n\nSaturday\, January 11th\, at 7pm \n\nThe Copperhead Lodge\, Blairsville\, GA.\n\n\n\nWe packed the porch there last summer and had to make reservations.\n\nFor more information: www.thelodgeatcopperhead.com.\n\nHope to see you there!
X-ALT-DESC;FMTTYPE=text/html:An Evening of Entertainment<br />\n<br />\nDon Byers&nbsp\;and the talented Keren Leppo of Atlanta<br />\nSaturday\, January 11th\, at 7pm&nbsp\;<br />\nThe Copperhead Lodge\, Blairsville\, GA.<br />\n<br />\nWe packed the porch there last summer and had to make reservations.<br />\nFor more information: www.thelodgeatcopperhead.com.<br />\nHope to see you there!
LOCATION:The Copperhead Lodge 171 Copperhead Parkway Blairsville\, GA
UID:e.256.21832
SEQUENCE:3
DTSTAMP:20260424T182332Z
URL:https://members.visitblairsvillega.com/events/details/don-byers-at-copperhead-lodge-01-11-2014-21832
END:VEVENT

END:VCALENDAR
