BEGIN:VCALENDAR
VERSION:2.0
PRODID:-//ChamberMaster//Event Calendar 2.0//EN
METHOD:PUBLISH
X-PUBLISHED-TTL:P3D
REFRESH-INTERVAL:P3D
CALSCALE:GREGORIAN
BEGIN:VEVENT
DTSTART:20140315T233000Z
DTEND:20140316T020000Z
X-MICROSOFT-CDO-ALLDAYEVENT:FALSE
SUMMARY:Don Williams
DESCRIPTION:If anyone ever needed proof that music is an international language\, then they need to look no further than Don Williams. Don picks his songs with all the skills of a class winemaker picking grapes only the best will do\, and the vintage results\, as fans around the world all know\, is just about the best blend of emotions the heart could ask for. Don William's music is the stuff of experience. Like a fine wine\, as Don has matured then the songs have even deeper emotional resonance. This is a man who has lived life\, who knows the depth of feeling and emotion ordinary people are capable of\, not only in Texas\, but in all the other places where his straightforward simplicity has made its mark the Brazil\, Britain\, Ireland\, Africa\, Australia\, Finland\, Norway and many more.
X-ALT-DESC;FMTTYPE=text/html:If anyone ever needed proof that music is an international language\, then they need to look no further than Don Williams. Don picks his songs with all the skills of a class winemaker picking grapes only the best will do\, and the vintage results\, as fans around the world all know\, is just about the best blend of emotions the heart could ask for. Don William&#39\;s music is the stuff of experience. Like a fine wine\, as Don has matured then the songs have even deeper emotional resonance. This is a man who has lived life\, who knows the depth of feeling and emotion ordinary people are capable of\, not only in Texas\, but in all the other places where his straightforward simplicity has made its mark the Brazil\, Britain\, Ireland\, Africa\, Australia\, Finland\, Norway and many more.
LOCATION:Smoky Mountain Center for the Performing Arts 1028 Georgia Road Franklin\, NC 28734
UID:e.256.23226
SEQUENCE:3
DTSTAMP:20260424T152723Z
URL:https://members.visitblairsvillega.com/events/details/don-williams-03-15-2014-23226
END:VEVENT

END:VCALENDAR
