BEGIN:VCALENDAR
VERSION:2.0
PRODID:-//ChamberMaster//Event Calendar 2.0//EN
METHOD:PUBLISH
X-PUBLISHED-TTL:P3D
REFRESH-INTERVAL:P3D
CALSCALE:GREGORIAN
BEGIN:VEVENT
DTSTART:20150131T000000Z
DTEND:20150131T020000Z
X-MICROSOFT-CDO-ALLDAYEVENT:FALSE
SUMMARY:Dori Freedman & David Long at John C. Campbell Folk School
DESCRIPTION:Dori Freedman & David Long- young duo sing super sweet harmony
X-ALT-DESC;FMTTYPE=text/html:<div>Dori Freedman &amp\; David Long- young duo sing super sweet harmony</div>\n
LOCATION:Community Room at John C. Campbell Folk School Brasstown\, NC 28902
UID:e.256.33610
SEQUENCE:3
DTSTAMP:20260424T003631Z
URL:https://members.visitblairsvillega.com/events/details/dori-freedman-david-long-at-john-c-campbell-folk-school-01-30-2015-33610
END:VEVENT

END:VCALENDAR
