BEGIN:VCALENDAR
VERSION:2.0
PRODID:-//ChamberMaster//Event Calendar 2.0//EN
METHOD:PUBLISH
X-PUBLISHED-TTL:P3D
REFRESH-INTERVAL:P3D
CALSCALE:GREGORIAN
BEGIN:VEVENT
DTSTART:20131210T203000Z
DTEND:20131210T223000Z
X-MICROSOFT-CDO-ALLDAYEVENT:FALSE
SUMMARY:Doris Durbin Book Signing
DESCRIPTION:You are invited to a book signing!\n\n\n\nUnited Community Bank and Friends of the Library are proud to present Doris Durbin and her new book "The Captain Takes a Wife" Books will be available for purchase at the event. Refreshments will be served.
X-ALT-DESC;FMTTYPE=text/html:You are invited to a book signing!<br />\n<br />\nUnited Community Bank and Friends of the Library are proud to present Doris Durbin and her new book &quot\;The Captain Takes a Wife&quot\; Books will be available for purchase at the event. Refreshments will be served.
LOCATION:Union County Library Community Room
UID:e.256.20568
SEQUENCE:3
DTSTAMP:20260424T194327Z
URL:https://members.visitblairsvillega.com/events/details/doris-durbin-book-signing-12-10-2013-20568
END:VEVENT

END:VCALENDAR
