BEGIN:VCALENDAR
VERSION:2.0
PRODID:-//ChamberMaster//Event Calendar 2.0//EN
METHOD:PUBLISH
X-PUBLISHED-TTL:P3D
REFRESH-INTERVAL:P3D
CALSCALE:GREGORIAN
BEGIN:VEVENT
DTSTART:20140814T220000Z
DTEND:20140814T230000Z
X-MICROSOFT-CDO-ALLDAYEVENT:FALSE
SUMMARY:Doug Collins Town Hall
DESCRIPTION:Town Hall Meeting
X-ALT-DESC;FMTTYPE=text/html:Town Hall Meeting
LOCATION:Blue Ridge Performing Arts Center
UID:e.256.26144
SEQUENCE:3
DTSTAMP:20260424T073639Z
URL:https://members.visitblairsvillega.com/events/details/doug-collins-town-hall-08-14-2014-26144
END:VEVENT

END:VCALENDAR
