BEGIN:VCALENDAR
VERSION:2.0
PRODID:-//ChamberMaster//Event Calendar 2.0//EN
METHOD:PUBLISH
X-PUBLISHED-TTL:P3D
REFRESH-INTERVAL:P3D
CALSCALE:GREGORIAN
BEGIN:VEVENT
DTSTART:20170831T213000Z
DTEND:20170831T233000Z
X-MICROSOFT-CDO-ALLDAYEVENT:FALSE
SUMMARY:Downtown Blairsville Merchant Meeting
DESCRIPTION:Come join us for an open discussion to help the Blairsville DDA better serve the needs of your business and the community. Additionally\, we'll be sharing upcoming events\, new building projects and other issues related to our downtown. We'll have speakers from the City\, DDA Board\, the Chamber & more. Light refreshments will be served.
X-ALT-DESC;FMTTYPE=text/html:<span style="color: rgb(75\, 79\, 86)\; font-family: Helvetica\, Arial\, sans-serif\; font-size: 14px\; background-color: rgb(255\, 255\, 255)\;">Come join us for an open discussion to help the Blairsville DDA better serve the needs of your business and the community. Additionally\, we&#39\;ll be sharing upcoming events\, new building projects and other issues related to our downtown. We&#39\;ll have speakers from the City\, DDA Board\, the Chamber &amp\; more. Light refreshments will be served.</span>
LOCATION:Cabin Coffee
UID:e.256.75729
SEQUENCE:3
DTSTAMP:20260419T195136Z
URL:https://members.visitblairsvillega.com/events/details/downtown-blairsville-merchant-meeting-75729
END:VEVENT

END:VCALENDAR
