BEGIN:VCALENDAR
VERSION:2.0
PRODID:-//ChamberMaster//Event Calendar 2.0//EN
METHOD:PUBLISH
X-PUBLISHED-TTL:P3D
REFRESH-INTERVAL:P3D
CALSCALE:GREGORIAN
BEGIN:VEVENT
DTSTART:20160821T000000Z
DTEND:20160821T020000Z
X-MICROSOFT-CDO-ALLDAYEVENT:FALSE
SUMMARY:Downtown Blairsville Outdoor Movie Night
DESCRIPTION:Downtown Blairsville Outdoor Movie Night
X-ALT-DESC;FMTTYPE=text/html:Downtown Blairsville Outdoor Movie Night
LOCATION:Mountain Heritage Museum Lawn
UID:e.256.55534
SEQUENCE:3
DTSTAMP:20260420T165429Z
URL:https://members.visitblairsvillega.com/events/details/downtown-blairsville-outdoor-movie-night-08-20-2016-55534
END:VEVENT

END:VCALENDAR
