BEGIN:VCALENDAR
VERSION:2.0
PRODID:-//ChamberMaster//Event Calendar 2.0//EN
METHOD:PUBLISH
X-PUBLISHED-TTL:P3D
REFRESH-INTERVAL:P3D
CALSCALE:GREGORIAN
BEGIN:VEVENT
DTSTART:20140725T230000Z
DTEND:20140726T000000Z
X-MICROSOFT-CDO-ALLDAYEVENT:FALSE
SUMMARY:Dulcimer Celebration
DESCRIPTION:Five great performers on mountain and hammered\n\ndulcimers (and other instruments!)
X-ALT-DESC;FMTTYPE=text/html:Five great performers on mountain and hammered<br />\ndulcimers (and other instruments!)
LOCATION:Festival Barn John C. Campbell Folk School One Folk School Road Brasstown NC 28902
UID:e.256.24807
SEQUENCE:3
DTSTAMP:20260424T091514Z
URL:https://members.visitblairsvillega.com/events/details/dulcimer-celebration-07-25-2014-24807
END:VEVENT

END:VCALENDAR
