BEGIN:VCALENDAR
VERSION:2.0
PRODID:-//ChamberMaster//Event Calendar 2.0//EN
METHOD:PUBLISH
X-PUBLISHED-TTL:P3D
REFRESH-INTERVAL:P3D
CALSCALE:GREGORIAN
BEGIN:VEVENT
DTSTART:20150724T230000Z
DTEND:20150725T010000Z
X-MICROSOFT-CDO-ALLDAYEVENT:FALSE
SUMMARY:Dulcimer Celebration at John C. Campbell Folk School
DESCRIPTION:Dulcimer Celebration - four masters of mountain & hammered dulcimers
X-ALT-DESC;FMTTYPE=text/html:<div>Dulcimer Celebration - four masters of mountain &amp\; hammered dulcimers</div>\n
LOCATION:Community Room at John C. Campbell Folk School Brasstown\, NC 28902
UID:e.256.40225
SEQUENCE:3
DTSTAMP:20260423T151236Z
URL:https://members.visitblairsvillega.com/events/details/dulcimer-celebration-at-john-c-campbell-folk-school-07-24-2015-40225
END:VEVENT

END:VCALENDAR
