BEGIN:VCALENDAR
VERSION:2.0
PRODID:-//ChamberMaster//Event Calendar 2.0//EN
METHOD:PUBLISH
X-PUBLISHED-TTL:P3D
REFRESH-INTERVAL:P3D
CALSCALE:GREGORIAN
BEGIN:VEVENT
DTSTART:20170617T140000Z
DTEND:20170617T203000Z
X-MICROSOFT-CDO-ALLDAYEVENT:FALSE
SUMMARY:Dyeing to Learn Fiber Arts Class
DESCRIPTION:What do I do with all of this fiber? If you raise fiber producing animals you may find yourself asking this question. This class designed to help you feel more comfortable with the milling and or crafting process\, so you can do something useful with your precious animal's fiber. Learn to prepare your fleece\, skirt and wash some fiber. We will discuss skirting a fleece for the mill and the many options you have with mill processing. Covering at least 3 different dye techniques\, we will dye a small skein of yarn\, some raw fleece and some carded roving. Carding fiber and learning about the many combinations of fibers will also be demonstrated and discussed. All materials included. We begin the morning with homemade sweet breads\, coffee or tea. lunch is a warm yummy farm to table cozy affair: $99.00 each. All levels welcome Teacher: Holly Williams Holly is the owner of Lasso the Moon Alpaca Farm\, Lardworks Studio Inc and Laces of Lore Fiber Art. Holly has been teaching fiber art on the farm for over 10 years. Class Times: 10:00 am - 5:00 pm
X-ALT-DESC;FMTTYPE=text/html:What do I do with all of this fiber? If you raise fiber producing animals you may find yourself asking this question. This class designed to help you feel more comfortable with the milling and or crafting process\, so you can do something useful with your precious animal&#39\;s fiber. Learn to prepare your fleece\, skirt and wash some fiber. We will discuss skirting a fleece for the mill and the many options you have with mill processing. Covering at least 3 different dye techniques\, we will dye a small skein of yarn\, some raw fleece and some carded roving. Carding fiber and learning about the many combinations of fibers will also be demonstrated and discussed. All materials included. We begin the morning with homemade sweet breads\, coffee or tea. lunch is a warm yummy farm to table cozy affair: $99.00 each. All levels welcome Teacher: Holly Williams Holly is the owner of Lasso the Moon Alpaca Farm\, Lardworks Studio Inc and Laces of Lore Fiber Art. Holly has been teaching fiber art on the farm for over 10 years. Class Times: 10:00 am - 5:00 pm
LOCATION:Lasso the Moon Alpaca Farm\, 106 Agape Drive\, Blairsville\, GA 30512
UID:e.256.69254
SEQUENCE:3
DTSTAMP:20260419T232055Z
URL:https://members.visitblairsvillega.com/events/details/dyeing-to-learn-fiber-arts-class-69254
END:VEVENT

END:VCALENDAR
