BEGIN:VCALENDAR
VERSION:2.0
PRODID:-//ChamberMaster//Event Calendar 2.0//EN
METHOD:PUBLISH
X-PUBLISHED-TTL:P3D
REFRESH-INTERVAL:P3D
CALSCALE:GREGORIAN
BEGIN:VEVENT
DTSTART:20160423T130000Z
DTEND:20160423T230000Z
X-MICROSOFT-CDO-ALLDAYEVENT:FALSE
SUMMARY:Earth Day Celebration/Festival
DESCRIPTION:The town of Andrews NC is hosting a celebration/festival featuring the local businesses\, crafters\, vendors\, services and county offices who are are ready to share with you how our little corner of North Carolina can be made even better.  You can find information about the town at any business in town\, the Library and at Town Hall.  We hope you come out and enjoy our special weekend celebration and come back again soon!!
X-ALT-DESC;FMTTYPE=text/html:The town of Andrews NC is hosting a celebration/festival featuring the local businesses\, crafters\, vendors\, services and county offices who are are ready to share with you how our little corner of North Carolina can be made even better.&nbsp\; You can find information about the town at any business in town\, the Library and at Town Hall.&nbsp\; We hope you come out and enjoy our special weekend celebration and come back again soon!!
LOCATION:Downtown Andrews\, Andrews\, North Carolina
UID:e.256.50641
SEQUENCE:3
DTSTAMP:20260421T002701Z
URL:https://members.visitblairsvillega.com/events/details/earth-day-celebration-festival-04-23-2016-50641
END:VEVENT

END:VCALENDAR
