BEGIN:VCALENDAR
VERSION:2.0
PRODID:-//ChamberMaster//Event Calendar 2.0//EN
METHOD:PUBLISH
X-PUBLISHED-TTL:P3D
REFRESH-INTERVAL:P3D
CALSCALE:GREGORIAN
BEGIN:VEVENT
DTSTART;VALUE=DATE:20150422
DTEND;VALUE=DATE:20150423
TRANSP:TRANSPARENT
X-MICROSOFT-CDO-ALLDAYEVENT:TRUE
SUMMARY:Earth Day Sale and Purchase with a Purpose
DESCRIPTION:Celebrate Earth Day at BodySense with 10% off everything Green! Clothing and Products Using Nature's best ingredients and Supporting Sustainability available here! 10% of our profits will go to Energy Saving Volunteers\, a local environmental group that helps families save money on their power bills with free assessments and assistance. This year we will be buying LED lightbulbs for qualifying families.
X-ALT-DESC;FMTTYPE=text/html:Celebrate Earth Day at BodySense with 10% off everything Green! Clothing and Products Using Nature&#39\;s best ingredients and Supporting Sustainability available here! 10% of our profits will go to Energy Saving Volunteers\, a local environmental group that helps families save money on their power bills with free assessments and assistance. This year we will be buying LED lightbulbs for qualifying families.
LOCATION:BodySense 2226 Ridge Crest Circle Hiawassee\, GA
UID:e.256.39921
SEQUENCE:3
DTSTAMP:20260423T200537Z
URL:https://members.visitblairsvillega.com/events/details/earth-day-sale-and-purchase-with-a-purpose-04-22-2015-39921
END:VEVENT

END:VCALENDAR
