BEGIN:VCALENDAR
VERSION:2.0
PRODID:-//ChamberMaster//Event Calendar 2.0//EN
METHOD:PUBLISH
X-PUBLISHED-TTL:P3D
REFRESH-INTERVAL:P3D
CALSCALE:GREGORIAN
BEGIN:VEVENT
DTSTART:20170506T140000Z
DTEND:20170506T180000Z
X-MICROSOFT-CDO-ALLDAYEVENT:FALSE
SUMMARY:Earthfest 2017
DESCRIPTION:Something for Everyone! Celebrating our Local Roots!\n\n10am - 2pm: Local artisans & vendor market\n\n10:30-11:10: The all important honey bee (Glen Henderson)\n\n11:15-11:55: Save Georgia's Hemlocks (Wynn Mott)\n\n12pm-1:10pm: Wildflower Walk & Talk (Mickey Cummings)\n\n1:15-2pm: Georgia Firewise (Frank Riley)
X-ALT-DESC;FMTTYPE=text/html:Something for Everyone! Celebrating our Local Roots!<br />\n10am&nbsp\;- 2pm: Local artisans &amp\; vendor market<br />\n10:30-11:10: The all important honey bee (Glen Henderson)<br />\n11:15-11:55: Save Georgia&#39\;s Hemlocks (Wynn Mott)<br />\n12pm-1:10pm: Wildflower Walk &amp\; Talk (Mickey Cummings)<br />\n1:15-2pm: Georgia Firewise (Frank Riley)
LOCATION:The Reece Farm 8552 Gainesville Hwy Blairsville\, Ga 30512 Located on Hwy 129 South\, just before Hwy 180 West
UID:e.256.73062
SEQUENCE:3
DTSTAMP:20260420T005833Z
URL:https://members.visitblairsvillega.com/events/details/earthfest-2017-73062
END:VEVENT

END:VCALENDAR
