BEGIN:VCALENDAR
VERSION:2.0
PRODID:-//ChamberMaster//Event Calendar 2.0//EN
METHOD:PUBLISH
X-PUBLISHED-TTL:P3D
REFRESH-INTERVAL:P3D
CALSCALE:GREGORIAN
BEGIN:VEVENT
DTSTART:20160320T123000Z
DTEND:20160320T133000Z
X-MICROSOFT-CDO-ALLDAYEVENT:FALSE
SUMMARY:Easter Cantata at FUMC
DESCRIPTION:Come and enjoy the Easter Cantata\, A Living Hope\, sung by FUMC's Sanctuary Choir and led by Jeff Bauman. Coffee and cinnamon rolls will be served in the MAC immediately following. Dress is casual. Everyone welcome!
X-ALT-DESC;FMTTYPE=text/html:Come and enjoy the Easter Cantata\, A Living Hope\, sung by FUMC&#39\;s Sanctuary Choir and led by Jeff Bauman. Coffee and cinnamon rolls will be served in the MAC immediately following. Dress is casual. Everyone welcome!
LOCATION:FUMC is located on Hwy 515 across from Meeks Park.
UID:e.256.49994
SEQUENCE:3
DTSTAMP:20260421T040057Z
URL:https://members.visitblairsvillega.com/events/details/easter-cantata-at-fumc-03-20-2016-49994
END:VEVENT

END:VCALENDAR
