BEGIN:VCALENDAR
VERSION:2.0
PRODID:-//ChamberMaster//Event Calendar 2.0//EN
METHOD:PUBLISH
X-PUBLISHED-TTL:P3D
REFRESH-INTERVAL:P3D
CALSCALE:GREGORIAN
BEGIN:VEVENT
DTSTART:20170409T150000Z
DTEND:20170409T160000Z
X-MICROSOFT-CDO-ALLDAYEVENT:FALSE
SUMMARY:Easter Cantata at FUMC
DESCRIPTION:"The Power of the Cross" An Easter Cantata presented by the First United Methodist Church of Union County. Presented by the FUM Sanctuary Choir\, orchestra and guest musicians. Conducted by Jeff Bauman with Keith DeFoor at the piano.
X-ALT-DESC;FMTTYPE=text/html:&quot\;The Power of the Cross&quot\; An Easter Cantata presented by the First United Methodist Church of Union County. Presented by the FUM Sanctuary Choir\, orchestra and guest musicians. Conducted by Jeff Bauman with Keith DeFoor at the piano.
LOCATION:938 Highway 515\, Blairsville\, GA 30512 FUMC is located on Hwy 515 across from Meeks Park in Blairsville.
UID:e.256.69111
SEQUENCE:3
DTSTAMP:20260420T024021Z
URL:https://members.visitblairsvillega.com/events/details/easter-cantata-at-fumc-04-09-2017-69111
END:VEVENT

END:VCALENDAR
