BEGIN:VCALENDAR
VERSION:2.0
PRODID:-//ChamberMaster//Event Calendar 2.0//EN
METHOD:PUBLISH
X-PUBLISHED-TTL:P3D
REFRESH-INTERVAL:P3D
CALSCALE:GREGORIAN
BEGIN:VEVENT
DTSTART:20150328T140000Z
DTEND:20150328T160000Z
X-MICROSOFT-CDO-ALLDAYEVENT:FALSE
SUMMARY:Easter Egg Hunt
DESCRIPTION:Children (ages 2-12 years old) will hunt for over 6\,000 eggs placed on three fields in Meeks Park. Each group will be released to hunt according to their age. Prize baskets will be given away for every age group.
X-ALT-DESC;FMTTYPE=text/html:Children (ages 2-12 years old) will hunt for over 6\,000 eggs placed on three fields in Meeks Park. Each group will be released to hunt according to their age. Prize baskets will be given away for every age group.<br />\n&nbsp\;
LOCATION:Meeks Park
UID:e.256.27601
SEQUENCE:3
DTSTAMP:20260423T211547Z
URL:https://members.visitblairsvillega.com/events/details/easter-egg-hunt-03-28-2015-27601
END:VEVENT

END:VCALENDAR
