BEGIN:VCALENDAR
VERSION:2.0
PRODID:-//ChamberMaster//Event Calendar 2.0//EN
METHOD:PUBLISH
X-PUBLISHED-TTL:P3D
REFRESH-INTERVAL:P3D
CALSCALE:GREGORIAN
BEGIN:VEVENT
DTSTART:20140412T140000Z
DTEND:20140412T210000Z
X-MICROSOFT-CDO-ALLDAYEVENT:FALSE
SUMMARY:Easter Egg*Stravaganza at Main Street Shops
DESCRIPTION:Pick an egg from the basket to get your discount.
X-ALT-DESC;FMTTYPE=text/html:Pick an egg from the basket to get your discount.
LOCATION:44 Chevy Drive - 3 miles west of Blairsville on the 4-Lane (GA515/US76) turn at Lows Mill Road - located next to Ware Chevrolet
UID:e.256.23660
SEQUENCE:3
DTSTAMP:20260424T133443Z
URL:https://members.visitblairsvillega.com/events/details/easter-egg-stravaganza-at-main-street-shops-04-12-2014-23660
END:VEVENT

END:VCALENDAR
