BEGIN:VCALENDAR
VERSION:2.0
PRODID:-//ChamberMaster//Event Calendar 2.0//EN
METHOD:PUBLISH
X-PUBLISHED-TTL:P3D
REFRESH-INTERVAL:P3D
CALSCALE:GREGORIAN
BEGIN:VEVENT
DTSTART:20160327T143000Z
DTEND:20160327T153000Z
X-MICROSOFT-CDO-ALLDAYEVENT:FALSE
SUMMARY:Easter Festival Service
DESCRIPTION:We invite you to join us as we celebrate Jesus's resurrection victory on Easter Sunday.
X-ALT-DESC;FMTTYPE=text/html:<strong>We invite you to join us as we celebrate Jesus&#39\;s resurrection victory on Easter Sunday.</strong>
LOCATION:83 Earl Shelton Rd. Blairsville\, GA
UID:e.256.49854
SEQUENCE:3
DTSTAMP:20260421T021914Z
URL:https://members.visitblairsvillega.com/events/details/easter-festival-service-03-27-2016-49854
END:VEVENT

END:VCALENDAR
