BEGIN:VCALENDAR
VERSION:2.0
PRODID:-//ChamberMaster//Event Calendar 2.0//EN
METHOD:PUBLISH
X-PUBLISHED-TTL:P3D
REFRESH-INTERVAL:P3D
CALSCALE:GREGORIAN
BEGIN:VEVENT
DTSTART:20150405T120000Z
DTEND:20150405T153000Z
X-MICROSOFT-CDO-ALLDAYEVENT:FALSE
SUMMARY:Easter Sunday
DESCRIPTION:Easter Morning Service at 8:00 a.m.\n\nEaster Brunch 9:00 a.m. - 10:00 a.m. (No charge)\n\nEaster Festival Service at 10:30 a.m.\n\n\n\n"Broken Seal"\n\nMatthew 27:62-66   The seal of authority is broken to reveal the delivered Truth that frees.
X-ALT-DESC;FMTTYPE=text/html:<p><span style="font-size: 14px\;"><strong><span style="font-family: calibri\,sans-serif\;">Easter Morning Service at 8:00 a.m.<br />\nEaster Brunch 9:00 a.m. - 10:00 a.m. (No charge)</span></strong><br />\n<strong><span style="font-family: calibri\,sans-serif\;">Easter Festival Service at 10:30 a.m.</span></strong></span></p>\n\n<p><br />\n<span style="font-size: 14px\;"><strong><span style="font-family: calibri\,sans-serif\;">&ldquo\;Broken Seal&rdquo\;</span></strong><br />\n<span style="font-family: calibri\,sans-serif\;">Matthew 27:62-66 &ndash\; <em>The seal of authority is broken to reveal the delivered Truth that frees.</em></span></span><br />\n&nbsp\;</p>\n
LOCATION:All Saints Lutheran Church From Blairsville: At the traffic light (Post Office on the right/Home Depot on the left) drive approximately 4 1/2 miles. All Saints is located on the right just as the East bound lanes change from two lanes to one lane. From Hiawassee: Drive West on highway 515 through Young Harris towards Blairsville. All Saints is located on the left just as the West bound lanes change from two lanes to one lane. From Murphy: Drive West on highway 64. Turn left on Hwy. 19/129 (Blairsville Hwy). In Blairsville\, turn left onto Hwy. 515 and drive approximately 5 miles. All Saints is located on the right just as the East bound lanes change from two lanes to one lane.
UID:e.256.37736
SEQUENCE:3
DTSTAMP:20260423T211550Z
URL:https://members.visitblairsvillega.com/events/details/easter-sunday-04-05-2015-37736
END:VEVENT

END:VCALENDAR
