BEGIN:VCALENDAR
VERSION:2.0
PRODID:-//ChamberMaster//Event Calendar 2.0//EN
METHOD:PUBLISH
X-PUBLISHED-TTL:P3D
REFRESH-INTERVAL:P3D
CALSCALE:GREGORIAN
BEGIN:VEVENT
DTSTART:20150405T153000Z
DTEND:20150405T190000Z
X-MICROSOFT-CDO-ALLDAYEVENT:FALSE
SUMMARY:Easter Sunday Brunch
DESCRIPTION:.Brasstown Valley Resort: Easter Weekend Celebration April 5\, 2015 Main Lodge Building\, Brasstown Valley Resort\, Young Harris GA Easter Sunday Brunch: 11:30 noon until 3pm Main Dining Room Reservations are strongly recommended and can be made by calling: 706-379-4617 A copy of the menu is available on our web site at www.brasstownvalley.com Annual Easter Egg Hunt: 10am & 1pm Located on the Waterfall lawn and open to all children who are guests in the resort or attending the Easter Brunch. Kids are encouraged to bring their Easter baskets\; there will be prize eggs also in the hunt. For more information on the Easter Sunday Brunch and Children's Easter Egg hunt Please visit our web site at www.brasstownvalley.com to download the menu and activity program.
X-ALT-DESC;FMTTYPE=text/html:.Brasstown Valley Resort: Easter Weekend Celebration April 5\, 2015 Main Lodge Building\, Brasstown Valley Resort\, Young Harris GA Easter Sunday Brunch: 11:30 noon until 3pm Main Dining Room Reservations are strongly recommended and can be made by calling: 706-379-4617 A copy of the menu is available on our web site at www.brasstownvalley.com Annual Easter Egg Hunt: 10am &amp\; 1pm Located on the Waterfall lawn and open to all children who are guests in the resort or attending the Easter Brunch. Kids are encouraged to bring their Easter baskets\; there will be prize eggs also in the hunt. For more information on the Easter Sunday Brunch and Children&#39\;s Easter Egg hunt Please visit our web site at www.brasstownvalley.com to download the menu and activity program.
LOCATION:Brasstown Valley Resort & Spa \, Young Harris GA
UID:e.256.37479
SEQUENCE:3
DTSTAMP:20260423T200045Z
URL:https://members.visitblairsvillega.com/events/details/easter-sunday-brunch-04-05-2015-37479
END:VEVENT

END:VCALENDAR
