BEGIN:VCALENDAR
VERSION:2.0
PRODID:-//ChamberMaster//Event Calendar 2.0//EN
METHOD:PUBLISH
X-PUBLISHED-TTL:P3D
REFRESH-INTERVAL:P3D
CALSCALE:GREGORIAN
BEGIN:VEVENT
DTSTART:20140420T160000Z
DTEND:20140420T190000Z
X-MICROSOFT-CDO-ALLDAYEVENT:FALSE
SUMMARY:Easter Sunday Brunch
DESCRIPTION:Easter Sunday Brunch Buffet At Brasstown Valley Resort. Sunday April 20th starting at 12 noon until 3pm. Reservations are strongly recommended and can be made by calling 706-379-4617 An Easter Egg Hunt will be held on the Waterfall Lawn at 10am & 1pm. This is open to the children of resort guests and guest attending the Brunch. Children are encouraged to bring their own Easter Baskets for the hunt. More information can be found and a copy of the Brunch menu on our web site www.brasstownvalley.com
X-ALT-DESC;FMTTYPE=text/html:Easter Sunday Brunch Buffet At Brasstown Valley Resort. Sunday April 20th starting at 12 noon until 3pm. Reservations are strongly recommended and can be made by calling 706-379-4617 An Easter Egg Hunt will be held on the Waterfall Lawn at 10am &amp\; 1pm. This is open to the children of resort guests and guest attending the Brunch. Children are encouraged to bring their own Easter Baskets for the hunt. More information can be found and a copy of the Brunch menu on our web site www.brasstownvalley.com
LOCATION:Brasstown Valley Resort Young Harris GA
UID:e.256.23294
SEQUENCE:3
DTSTAMP:20260424T133302Z
URL:https://members.visitblairsvillega.com/events/details/easter-sunday-brunch-04-20-2014-23294
END:VEVENT

END:VCALENDAR
