BEGIN:VCALENDAR
VERSION:2.0
PRODID:-//ChamberMaster//Event Calendar 2.0//EN
METHOD:PUBLISH
X-PUBLISHED-TTL:P3D
REFRESH-INTERVAL:P3D
CALSCALE:GREGORIAN
BEGIN:VEVENT
DTSTART:20170416T144500Z
DTEND:20170416T160000Z
X-MICROSOFT-CDO-ALLDAYEVENT:FALSE
SUMMARY:Easter Sunday Services
DESCRIPTION:Easter Sunday Services with Holy Communion
X-ALT-DESC;FMTTYPE=text/html:Easter Sunday Services with Holy Communion
LOCATION:Shepherd of the Hills Lutheran Church\, 823 Forge Mill Rd. Morganton\, GA 30560
UID:e.256.71035
SEQUENCE:3
DTSTAMP:20260420T023737Z
URL:https://members.visitblairsvillega.com/events/details/easter-sunday-services-71035
END:VEVENT

END:VCALENDAR
