BEGIN:VCALENDAR
VERSION:2.0
PRODID:-//ChamberMaster//Event Calendar 2.0//EN
METHOD:PUBLISH
X-PUBLISHED-TTL:P3D
REFRESH-INTERVAL:P3D
CALSCALE:GREGORIAN
BEGIN:VEVENT
DTSTART:20150405T103000Z
DTEND:20150405T163000Z
X-MICROSOFT-CDO-ALLDAYEVENT:FALSE
SUMMARY:Easter Sunrise Service 6:30 AM at New Hope Fellowship Church
DESCRIPTION:Easter Sunrise Service April 5th\, New Hope Fellowship Church Come worship The Lord and celebrate His resurrection! All welcome. All denominations welcome to worship with us Easter and every Sunday. Sunrise Easter Service at 6:30 AM. Easter Sunday April 5th. Family breakfast following sunrise service. Regular Easter Church Service at 11:00 AM following breakfast for those who can't attend sunrise worship service. New Hope Fellowship Baptist Church is located at\, 1456 Blue Ridge Hwy.\,Blairsville\, Ga 30512. Phone 706-745-9864
X-ALT-DESC;FMTTYPE=text/html:Easter Sunrise Service April 5th\, New Hope Fellowship Church Come worship The Lord and celebrate His resurrection! All welcome. All denominations welcome to worship with us Easter and every Sunday. Sunrise Easter Service at 6:30 AM. Easter Sunday April 5th. Family breakfast following sunrise service. Regular Easter Church Service at 11:00 AM following breakfast for those who can&#39\;t attend sunrise worship service. New Hope Fellowship Baptist Church is located at\, 1456 Blue Ridge Hwy.\,Blairsville\, Ga 30512. Phone 706-745-9864
LOCATION:1456 Blue Ridge Hyw\, Blairsville\, Ga 30512 Turn off 515 onto Old Blue Ridge Hyw. (Just after red light at McDonald's\, enter turn lane to turn left. Church Approx. 2 miles on the Right.
UID:e.256.37744
SEQUENCE:3
DTSTAMP:20260423T200922Z
URL:https://members.visitblairsvillega.com/events/details/easter-sunrise-service-6-30-am-at-new-hope-fellowship-church-04-05-2015-37744
END:VEVENT

END:VCALENDAR
