BEGIN:VCALENDAR
VERSION:2.0
PRODID:-//ChamberMaster//Event Calendar 2.0//EN
METHOD:PUBLISH
X-PUBLISHED-TTL:P3D
REFRESH-INTERVAL:P3D
CALSCALE:GREGORIAN
BEGIN:VEVENT
DTSTART:20170416T150000Z
DTEND:20170416T160000Z
X-MICROSOFT-CDO-ALLDAYEVENT:FALSE
SUMMARY:Easter Worship Service
DESCRIPTION:Join us for a beautiful service of worship with special music including hymn singing\, our Sanctuary Choir\, a brass ensemble and Keith DeFoor on organ.
X-ALT-DESC;FMTTYPE=text/html:Join us for a beautiful service of worship with special music including hymn singing\, our Sanctuary Choir\, a brass ensemble and Keith DeFoor on organ.
LOCATION:938 Highway 515\, Blairsville\, GA 30512 Located on Hwy 515 across from Meeks Park
UID:e.256.69114
SEQUENCE:3
DTSTAMP:20260420T034615Z
URL:https://members.visitblairsvillega.com/events/details/easter-worship-service-04-16-2017-69114
END:VEVENT

END:VCALENDAR
