BEGIN:VCALENDAR
VERSION:2.0
PRODID:-//ChamberMaster//Event Calendar 2.0//EN
METHOD:PUBLISH
X-PUBLISHED-TTL:P3D
REFRESH-INTERVAL:P3D
CALSCALE:GREGORIAN
BEGIN:VEVENT
DTSTART:20170409T134500Z
DTEND:20170409T144500Z
X-MICROSOFT-CDO-ALLDAYEVENT:FALSE
SUMMARY:Easter Worship Service - Contemporary
DESCRIPTION:Join us in our celebration of Easter! Our 9:45am Contemporary Service meets in the MAC which is located at the west end of the church campus. Casual attire and contemporary music.
X-ALT-DESC;FMTTYPE=text/html:Join us in our celebration of Easter! Our 9:45am Contemporary Service meets in the MAC which is located at the west end of the church campus. Casual attire and contemporary music.
LOCATION:938 Highway 515\, Blairsville\, GA 30512 Located on HWY 515 across from Meeks Park in Blairsville.
UID:e.256.69112
SEQUENCE:3
DTSTAMP:20260420T034613Z
URL:https://members.visitblairsvillega.com/events/details/easter-worship-service-contemporary-69112
END:VEVENT

END:VCALENDAR
