BEGIN:VCALENDAR
VERSION:2.0
PRODID:-//ChamberMaster//Event Calendar 2.0//EN
METHOD:PUBLISH
X-PUBLISHED-TTL:P3D
REFRESH-INTERVAL:P3D
CALSCALE:GREGORIAN
BEGIN:VEVENT
DTSTART:20160327T123000Z
DTEND:20160327T133000Z
X-MICROSOFT-CDO-ALLDAYEVENT:FALSE
SUMMARY:Easter Worship Services
DESCRIPTION:Join FUMC at their early Easter worship service. This service is held in the Sanctuary and dress is casual. Everyone is welcome!
X-ALT-DESC;FMTTYPE=text/html:Join FUMC at their early Easter worship service. This service is held in the Sanctuary and dress is casual. Everyone is welcome!
LOCATION:First United Methodist Church of Union County is located on Hwy 515 across from Meeks Park.
UID:e.256.49991
SEQUENCE:3
DTSTAMP:20260421T021606Z
URL:https://members.visitblairsvillega.com/events/details/easter-worship-services-03-27-2016-49991
END:VEVENT

END:VCALENDAR
