BEGIN:VCALENDAR
VERSION:2.0
PRODID:-//ChamberMaster//Event Calendar 2.0//EN
METHOD:PUBLISH
X-PUBLISHED-TTL:P3D
REFRESH-INTERVAL:P3D
CALSCALE:GREGORIAN
BEGIN:VEVENT
DTSTART:20160327T134500Z
DTEND:20160327T144500Z
X-MICROSOFT-CDO-ALLDAYEVENT:FALSE
SUMMARY:Easter Worship Services
DESCRIPTION:Join FUMC for Contemporary Easter Sunday worship at 9:45am. This service is held in the MAC which is located at the far west end of the church campus. Dress is casual. Everyone is Welcoms
X-ALT-DESC;FMTTYPE=text/html:Join FUMC for Contemporary Easter Sunday worship at 9:45am. This service is held in the MAC which is located at the far west end of the church campus. Dress is casual. Everyone is Welcoms
LOCATION:First United Methodist Church is located on Hwy 515 across from Meeks Park.
UID:e.256.49992
SEQUENCE:3
DTSTAMP:20260421T021607Z
URL:https://members.visitblairsvillega.com/events/details/easter-worship-services-03-27-2016-49992
END:VEVENT

END:VCALENDAR
