BEGIN:VCALENDAR
VERSION:2.0
PRODID:-//ChamberMaster//Event Calendar 2.0//EN
METHOD:PUBLISH
X-PUBLISHED-TTL:P3D
REFRESH-INTERVAL:P3D
CALSCALE:GREGORIAN
BEGIN:VEVENT
DTSTART:20170416T134500Z
DTEND:20170416T144500Z
X-MICROSOFT-CDO-ALLDAYEVENT:FALSE
SUMMARY:Easter Worship Services
DESCRIPTION:A beautiful service with special music in contemporary service. Casual attire. Meets in MAC building located on the west end of church campus.
X-ALT-DESC;FMTTYPE=text/html:A beautiful service with special music in contemporary service. Casual attire. Meets in MAC building located on the west end of church campus.
LOCATION:938 Highway 515\, Blairsville\, GA 30512 Located on Hwy 515 across from Meeks Park
UID:e.256.69115
SEQUENCE:3
DTSTAMP:20260420T023728Z
URL:https://members.visitblairsvillega.com/events/details/easter-worship-services-69115
END:VEVENT

END:VCALENDAR
