BEGIN:VCALENDAR
VERSION:2.0
PRODID:-//ChamberMaster//Event Calendar 2.0//EN
METHOD:PUBLISH
X-PUBLISHED-TTL:P3D
REFRESH-INTERVAL:P3D
CALSCALE:GREGORIAN
BEGIN:VEVENT
DTSTART:20150522T150000Z
DTEND:20150523T000000Z
X-MICROSOFT-CDO-ALLDAYEVENT:FALSE
SUMMARY:Eat @ Blimpie's for a GOOD CAUSE
DESCRIPTION:Celebrate the last day of school and eat at your local Blimpie's Subs and Salads.\n\n\n\n20% of the day's sales will go towards RELAY 4 LIFE!!!\n\n\n\n(Donations are also accepted)
X-ALT-DESC;FMTTYPE=text/html:<span style="font-size: 14px\;"><span style="font-family: verdana\;">Celebrate the last day of school and eat at your local Blimpie&#39\;s Subs and Salads.<br />\n<br />\n20% of the day&#39\;s sales will go towards RELAY 4 LIFE!!!</span></span><br />\n<br />\n(Donations are also accepted)
LOCATION:Blimpie Subs & Salads 231 Hwy 515 Suite 7 Blairsville\, GA 30512
UID:e.256.40219
SEQUENCE:3
DTSTAMP:20260423T182502Z
URL:https://members.visitblairsvillega.com/events/details/eat-blimpie-s-for-a-good-cause-05-22-2015-40219
END:VEVENT

END:VCALENDAR
