BEGIN:VCALENDAR
VERSION:2.0
PRODID:-//ChamberMaster//Event Calendar 2.0//EN
METHOD:PUBLISH
X-PUBLISHED-TTL:P3D
REFRESH-INTERVAL:P3D
CALSCALE:GREGORIAN
BEGIN:VEVENT
DTSTART:20150520T120000Z
DTEND:20150520T200000Z
X-MICROSOFT-CDO-ALLDAYEVENT:FALSE
SUMMARY:Eat @ The Huddle House For a Good Cause
DESCRIPTION:Please join S.A.F.E. at the Huddle House from 8am - 4pm for a great fundraiser!!!!\n\n\n\n20% of sales will be donated to S.A.F.E.\, there will be representatives cleaning tables\, handing out literature and answering any questions you may have about their program. \n\n\n\n(Donations are accepted as well)
X-ALT-DESC;FMTTYPE=text/html:<span style="font-size: 16px\;">Please join S.A.F.E. at the Huddle House from 8am - 4pm for a great fundraiser!!!!<br />\n<br />\n<span style="color: rgb(255\, 0\, 0)\;">20%</span> of sales will be donated to S.A.F.E.\, there will be representatives cleaning tables\, handing out literature and answering any questions you may have about their program. </span><br />\n<br />\n(Donations are accepted as well)
LOCATION:Huddle House Restaurant 29 Golf Course Road Blairsville\, GA 30512
UID:e.256.40263
SEQUENCE:3
DTSTAMP:20260423T182554Z
URL:https://members.visitblairsvillega.com/events/details/eat-the-huddle-house-for-a-good-cause-05-20-2015-40263
END:VEVENT

END:VCALENDAR
