BEGIN:VCALENDAR
VERSION:2.0
PRODID:-//ChamberMaster//Event Calendar 2.0//EN
METHOD:PUBLISH
X-PUBLISHED-TTL:P3D
REFRESH-INTERVAL:P3D
CALSCALE:GREGORIAN
BEGIN:VEVENT
DTSTART:20170821T140000Z
DTEND:20170821T210000Z
X-MICROSOFT-CDO-ALLDAYEVENT:FALSE
SUMMARY:Eclipse "Shindig"
DESCRIPTION:Rustic Mountain Decor & Pam's Back to Nature Health & Wellness will be hosting a "not-to-miss" Eclipse Shindig featuring Total Eclipse Savings in both stores\, Rustic Mountain Decor will provide FREE Eclipse Sunglasses w/$25 purchase (supply is limited!) & Pam's Health & Wellness will have available mini-musical instruments for purchase to shimmy & shammy with the "Sea Notes" bluegrass/country musical duo from 11-3 p.m.
X-ALT-DESC;FMTTYPE=text/html:<span style="font-family:comic sans ms">Rustic Mountain Decor &amp\; Pam&#39\;s Back to Nature Health &amp\; Wellness will be hosting a &quot\;not-to-miss&quot\; Eclipse Shindig featuring&nbsp\;<strong>Total Eclipse Savings in both stores\, Rustic Mountain Decor will provide FREE Eclipse Sunglasses w/$25 purchase (supply is limited!) &amp\; Pam&#39\;s Health &amp\; Wellness will have available mini-musical instruments for purchase to shimmy &amp\; shammy with the &quot\;Sea Notes&quot\; bluegrass/country musical duo from 11-3 p.m.</strong></span>
LOCATION:294 Hwy. 515 - Suite A & Suite G - right across the parking lot from Sammies Sandwhiches
UID:e.256.75398
SEQUENCE:3
DTSTAMP:20260419T210036Z
URL:https://members.visitblairsvillega.com/events/details/eclipse-shindig-75398
END:VEVENT

END:VCALENDAR
