BEGIN:VCALENDAR
VERSION:2.0
PRODID:-//ChamberMaster//Event Calendar 2.0//EN
METHOD:PUBLISH
X-PUBLISHED-TTL:P3D
REFRESH-INTERVAL:P3D
CALSCALE:GREGORIAN
BEGIN:VEVENT
DTSTART:20170821T160000Z
DTEND:20170821T200000Z
X-MICROSOFT-CDO-ALLDAYEVENT:FALSE
SUMMARY:Eclipse Viewing @ Union County Community Center
DESCRIPTION:Come join us at the Union County Community Center for our Eclipse Viewing Party.  We will provide lunch hot off the grill\, a free pair of viewing glasses and the best view in Union County.  Lunch Tickets will be sold for $15\, VIP tickets (includes complimentary wine/champagne) are $20\, and VIP Tickets with a guaranteed parking space are $25.  \n\nCall Ashleigh Stephens at 706-439-6092 to purchase tickets and reserve your parking space
X-ALT-DESC;FMTTYPE=text/html:Come join us at the Union County Community Center for our Eclipse Viewing Party.&nbsp\; We will provide lunch hot off the grill\, a free pair of viewing glasses and the best view in Union County.&nbsp\; Lunch Tickets will be sold for $15\, VIP tickets (includes complimentary wine/champagne) are $20\, and VIP Tickets with a guaranteed parking space are $25. &nbsp\;<br />\n<span style="color:#1F497D\;"><span style="font-family:calibri\,sans-serif\;"><span style="font-size:11.0pt\;">Call Ashleigh Stephens at 706-439-6092 to purchase tickets and reserve your parking space</span></span></span>
LOCATION:Union County Community Center
UID:e.256.75463
SEQUENCE:3
DTSTAMP:20260419T210158Z
URL:https://members.visitblairsvillega.com/events/details/eclipse-viewing-union-county-community-center-75463
END:VEVENT

END:VCALENDAR
