BEGIN:VCALENDAR
VERSION:2.0
PRODID:-//ChamberMaster//Event Calendar 2.0//EN
METHOD:PUBLISH
X-PUBLISHED-TTL:P3D
REFRESH-INTERVAL:P3D
CALSCALE:GREGORIAN
BEGIN:VEVENT
DTSTART:20140913T150000Z
DTEND:20140913T160000Z
X-MICROSOFT-CDO-ALLDAYEVENT:FALSE
SUMMARY:Ecumenical Memorial Service
DESCRIPTION:This national event honors the grave sites across America of our unborn brothers and sisters. This ecumenical service with prayer for victims of abortion\, healing for mothers and fathers\, and conversion of abortion workers and our nation.
X-ALT-DESC;FMTTYPE=text/html:<span style="font: 16px/normal sans-serif\; color: rgb(34\, 34\, 34)\; text-transform: none\; text-indent: 0px\; letter-spacing: normal\; word-spacing: 0px\; white-space: normal\; border-collapse: separate\; orphans: 2\; widows: 2\; font-size-adjust: none\; font-stretch: normal\; -webkit-text-size-adjust: auto\; -webkit-border-horizontal-spacing: 0px\; -webkit-border-vertical-spacing: 0px\; -webkit-text-decorations-in-effect: none\; -webkit-text-stroke-width: 0px\;"><span style="line-height: 19px\; font-family: &quot\;Open Sans&quot\;\, Arial\, sans-serif\; font-size: 14px\;">This national event honors the grave sites across America of our unborn brothers and sisters. This ecumenical service with prayer for victims of abortion\, healing for mothers and fathers\, and conversion of abortion workers and our nation.</span></span>
LOCATION:St. Francis of Assisi Catholic Church 3717 Hwy 515 East Blairsville\, GA 30512
UID:e.256.27322
SEQUENCE:3
DTSTAMP:20260424T063021Z
URL:https://members.visitblairsvillega.com/events/details/ecumenical-memorial-service-09-13-2014-27322
END:VEVENT

END:VCALENDAR
