BEGIN:VCALENDAR
VERSION:2.0
PRODID:-//ChamberMaster//Event Calendar 2.0//EN
METHOD:PUBLISH
X-PUBLISHED-TTL:P3D
REFRESH-INTERVAL:P3D
CALSCALE:GREGORIAN
BEGIN:VEVENT
DTSTART:20170217T140000Z
DTEND:20170217T160000Z
X-MICROSOFT-CDO-ALLDAYEVENT:FALSE
SUMMARY:Educational Seminar - Financial Planning/Insurance/Benefits
DESCRIPTION:Understanding Tax Deferral & Rule of 72\n\nThe cost of Retirement\n\nROTH vs. Pre-Taxed IRA\n\nWill taxes reduce your retirement fund\n\nDoes your life insurance provide tax free benefits prior to death\n\nMaximize your pension for you and your spouse\n\nLong term Care\, leaving of assets to heirs\, and Rule 219\n\nCollege Tuition & Education 529\n\nBest Social Security Strategies\n\nUnderstanding Veterans Aid and Attendance income benefit\n\nDoes your life insurance offer living benefits\n\nLifestyle Enrich/Telehealth\n\nMedicare supplements\n\nLife/Health
X-ALT-DESC;FMTTYPE=text/html:<span style="background-color:rgb(255\, 255\, 255)\; color:rgb(29\, 33\, 41)\; font-family:helvetica\,arial\,sans-serif\; font-size:14px">Understanding Tax Deferral &amp\; Rule of 72</span><br />\n<span style="background-color:rgb(255\, 255\, 255)\; color:rgb(29\, 33\, 41)\; font-family:helvetica\,arial\,sans-serif\; font-size:14px">The cost of Retirement</span><br />\n<span style="background-color:rgb(255\, 255\, 255)\; color:rgb(29\, 33\, 41)\; font-family:helvetica\,arial\,sans-serif\; font-size:14px">ROTH vs. Pre-Taxed IRA</span><br />\n<span style="background-color:rgb(255\, 255\, 255)\; color:rgb(29\, 33\, 41)\; font-family:helvetica\,arial\,sans-serif\; font-size:14px">Will taxes reduce your retirement fund</span><br />\n<span style="background-color:rgb(255\, 255\, 255)\; color:rgb(29\, 33\, 41)\; font-family:helvetica\,arial\,sans-serif\; font-size:14px">Does your life insurance provide tax free benefits prior to death</span><br />\n<span style="background-color:rgb(255\, 255\, 255)\; color:rgb(29\, 33\, 41)\; font-family:helvetica\,arial\,sans-serif\; font-size:14px">Maximize your pension for you and your spouse</span><br />\n<span style="background-color:rgb(255\, 255\, 255)\; color:rgb(29\, 33\, 41)\; font-family:helvetica\,arial\,sans-serif\; font-size:14px">Long term Care\, leaving of assets to heirs\, and Rule 219</span><br />\n<span style="background-color:rgb(255\, 255\, 255)\; color:rgb(29\, 33\, 41)\; font-family:helvetica\,arial\,sans-serif\; font-size:14px">College Tuition &amp\; Education 529</span><br />\n<span style="background-color:rgb(255\, 255\, 255)\; color:rgb(29\, 33\, 41)\; font-family:helvetica\,arial\,sans-serif\; font-size:14px">Best Social Security Strategies</span><br />\n<span style="background-color:rgb(255\, 255\, 255)\; color:rgb(29\, 33\, 41)\; font-family:helvetica\,arial\,sans-serif\; font-size:14px">Understanding Veterans Aid and Attendance income benefit</span><br />\n<span style="background-color:rgb(255\, 255\, 255)\; color:rgb(29\, 33\, 41)\; font-family:helvetica\,arial\,sans-serif\; font-size:14px">Does your life insurance offer living benefits</span><br />\n<span style="background-color:rgb(255\, 255\, 255)\; color:rgb(29\, 33\, 41)\; font-family:helvetica\,arial\,sans-serif\; font-size:14px">Lifestyle Enrich/Telehealth</span><br />\n<span style="background-color:rgb(255\, 255\, 255)\; color:rgb(29\, 33\, 41)\; font-family:helvetica\,arial\,sans-serif\; font-size:14px">Medicare supplements</span><br />\n<span style="background-color:rgb(255\, 255\, 255)\; color:rgb(29\, 33\, 41)\; font-family:helvetica\,arial\,sans-serif\; font-size:14px">Life/Health</span>
LOCATION:https://www.facebook.com/GGBakeryCafe/ G & G Bakery and Cafe (formerly Grinds n Glazes) 262 Highway 515 E\, Blairsville\, Georgia 30512
UID:e.256.67490
SEQUENCE:3
DTSTAMP:20260420T061117Z
URL:https://members.visitblairsvillega.com/events/details/educational-seminar-financial-planning-insurance-benefits-67490
END:VEVENT

END:VCALENDAR
