BEGIN:VCALENDAR
VERSION:2.0
PRODID:-//ChamberMaster//Event Calendar 2.0//EN
METHOD:PUBLISH
X-PUBLISHED-TTL:P3D
REFRESH-INTERVAL:P3D
CALSCALE:GREGORIAN
BEGIN:VEVENT
DTSTART:20150919T233000Z
DTEND:20150920T013000Z
X-MICROSOFT-CDO-ALLDAYEVENT:FALSE
SUMMARY:EG Kight & Her Blue South Band in Concert
DESCRIPTION:E.G. Kight is a singer\, songwriter\, guitar player and entertainer. She is the recipient of the 2013 Georgia Music Legend Award\; nominated for nine blues music awards\; Top 5 Best Blues Artist of 2014\; Appeared on A Prairie Home Companion\;  Songs recorded on two Grammy-nominated albums\; songs aired on CMN\, Nick at Nite\, & ABC Family.
X-ALT-DESC;FMTTYPE=text/html:E.G. Kight is a singer\, songwriter\, guitar player and entertainer. She is the recipient of the 2013 Georgia Music Legend Award\; nominated for nine blues music awards\; Top 5 Best Blues Artist of 2014\; Appeared on A Prairie Home Companion\;&nbsp\; Songs recorded on two Grammy-nominated albums\; songs aired on CMN\, Nick at Nite\, &amp\; ABC Family.
LOCATION:Union County Schools Fine Arts Center at 153 Panther Way\, Blairsville Above the High School.
UID:e.256.44201
SEQUENCE:3
DTSTAMP:20260423T134313Z
URL:https://members.visitblairsvillega.com/events/details/eg-kight-her-blue-south-band-in-concert-09-19-2015-44201
END:VEVENT

END:VCALENDAR
