BEGIN:VCALENDAR
VERSION:2.0
PRODID:-//ChamberMaster//Event Calendar 2.0//EN
METHOD:PUBLISH
X-PUBLISHED-TTL:P3D
REFRESH-INTERVAL:P3D
CALSCALE:GREGORIAN
BEGIN:VEVENT
DTSTART:20141018T140000Z
DTEND:20141018T180000Z
X-MICROSOFT-CDO-ALLDAYEVENT:FALSE
SUMMARY:Electronics Recycling and Paper Shredding Event
DESCRIPTION:Attention Union / Towns County residents Electronics Recycling and Paper Shredding Event\n\nSaturday\, October 18th 10am - 2pm\n\nDrop off Location: Old BRMEMC Building Parking Lot Young Harris \n\n\n\nIt is time to stop saving all of that paper you can't trust to the trash...watch it being shredded! We are requesting a donation of $5.00 per car with all proceeds going to the Mountain Shelter Humane Society.\n\n\n\nBring your electronic equipment to have properly recycled.\n\n\n\nFollowing items will NOT accepted: Vacuum cleaners\, refrigerators\, washers\, dryers\, freezers\, de-humidifiers\, or humidifiers\, and gas-powered equipment.
X-ALT-DESC;FMTTYPE=text/html:Attention Union / Towns County residents Electronics Recycling and Paper Shredding Event<br />\nSaturday\, October 18th 10am - 2pm<br />\n<strong>Drop off Location: Old BRMEMC Building Parking Lot Young Harris </strong><br />\n<br />\nIt is time to stop saving all of that paper you can&#39\;t trust to the trash...watch it being shredded! We are requesting a donation of $5.00 per car with all proceeds going to the Mountain Shelter Humane Society.<br />\n<br />\nBring your electronic equipment to have properly recycled.<br />\n<br />\n<em><strong>Following items will NOT accepted</strong></em>: Vacuum cleaners\, refrigerators\, washers\, dryers\, freezers\, de-humidifiers\, or humidifiers\, and gas-powered equipment.
LOCATION:Old BRMEMC Building Parking Lot Young Harris
UID:e.256.27434
SEQUENCE:3
DTSTAMP:20260424T045124Z
URL:https://members.visitblairsvillega.com/events/details/electronics-recycling-and-paper-shredding-event-10-18-2014-27434
END:VEVENT

END:VCALENDAR
