BEGIN:VCALENDAR
VERSION:2.0
PRODID:-//ChamberMaster//Event Calendar 2.0//EN
METHOD:PUBLISH
X-PUBLISHED-TTL:P3D
REFRESH-INTERVAL:P3D
CALSCALE:GREGORIAN
BEGIN:VEVENT
DTSTART:20160817T140000Z
DTEND:20160817T220000Z
X-MICROSOFT-CDO-ALLDAYEVENT:FALSE
SUMMARY:"Elements" an exhibit by Camille Day
DESCRIPTION:Summit Studio Resident artist Camille ?Candy? Day?s newest exhibition entitled ?Elements?.  Camille will present her vision of the four elements of fire\, water\, earth and air in this stunning new exhibit.  \n\nOpening reception will be July 30\, 5-7pm.
X-ALT-DESC;FMTTYPE=text/html:<span style="font-size: 12pt\;"><span style="font-family: adobe caslon pro bold\,serif\;">Summit Studio Resident artist Camille ?Candy? Day?s newest exhibition entitled ?Elements?.&nbsp\; Camille will present her vision of the four elements of fire\, water\, earth and air in this stunning new exhibit.&nbsp\; </span></span><br>\n<span style="font-size: 12pt\;"><span style="font-family: adobe caslon pro bold\,serif\;">Opening reception will be July 30\, 5-7pm.</span></span><br>\n&nbsp\;
LOCATION:The Art Center 420 West Main Street Blue Ridge\, GA 30513
UID:e.256.53941
SEQUENCE:3
DTSTAMP:20260420T163713Z
URL:https://members.visitblairsvillega.com/events/details/elements-an-exhibit-by-camille-day-08-17-2016-53941
END:VEVENT

END:VCALENDAR
