BEGIN:VCALENDAR
VERSION:2.0
PRODID:-//ChamberMaster//Event Calendar 2.0//EN
METHOD:PUBLISH
X-PUBLISHED-TTL:P3D
REFRESH-INTERVAL:P3D
CALSCALE:GREGORIAN
BEGIN:VEVENT
DTSTART:20161005T133000Z
DTEND:20161005T180000Z
X-MICROSOFT-CDO-ALLDAYEVENT:FALSE
SUMMARY:Employers "In the Know"
DESCRIPTION:This Summit is a half-day crash course for progressive HR and business professionals seeking practical guidance and real world tips for handling the toughest management and compliance challenges.  It is designed to meet the needs of managers\, human resources professionals\, business owners and supervisors who want to operate effectively within the legal climate that is affecting the 2016 workplace.  Our expert speakers will impart information that will foster a new confidence and updated skills for immediate implementation in your workplace.
X-ALT-DESC;FMTTYPE=text/html:This Summit is a half-day crash course for progressive HR and business professionals seeking practical guidance and real world tips for handling the toughest management and compliance challenges. &nbsp\;It is designed to meet the needs of managers\, human resources professionals\, business owners and supervisors who want to operate effectively within the legal climate that is affecting the 2016 workplace. &nbsp\;Our expert speakers will impart information that will foster a new confidence and updated skills for immediate implementation in your workplace.
LOCATION:The Oaks at Lanier Charter Career Academy Willow Oak Room 2719 Tumbling Creek Road Gainesville\, GA 30504
UID:e.256.54514
SEQUENCE:3
DTSTAMP:20260420T144422Z
URL:https://members.visitblairsvillega.com/events/details/employers-in-the-know-10-05-2016-54514
END:VEVENT

END:VCALENDAR
