BEGIN:VCALENDAR
VERSION:2.0
PRODID:-//ChamberMaster//Event Calendar 2.0//EN
METHOD:PUBLISH
X-PUBLISHED-TTL:P3D
REFRESH-INTERVAL:P3D
CALSCALE:GREGORIAN
BEGIN:VEVENT
DTSTART:20151026T140000Z
DTEND:20151026T180000Z
X-MICROSOFT-CDO-ALLDAYEVENT:FALSE
SUMMARY:Employers "In the Know" 2015
DESCRIPTION:Labor Law\, Corporate Taxes and More
X-ALT-DESC;FMTTYPE=text/html:Labor Law\, Corporate Taxes and More
LOCATION:Union County Community Center 129 Union County Recreation Road Blairsville\, GA 30512
UID:e.256.44193
SEQUENCE:3
DTSTAMP:20260423T103022Z
URL:https://members.visitblairsvillega.com/events/details/employers-in-the-know-2015-10-26-2015-44193
END:VEVENT

END:VCALENDAR
