BEGIN:VCALENDAR
VERSION:2.0
PRODID:-//ChamberMaster//Event Calendar 2.0//EN
METHOD:PUBLISH
X-PUBLISHED-TTL:P3D
REFRESH-INTERVAL:P3D
CALSCALE:GREGORIAN
BEGIN:VEVENT
DTSTART:20150314T210000Z
DTEND:20150314T230000Z
X-MICROSOFT-CDO-ALLDAYEVENT:FALSE
SUMMARY:Empty Bowls
DESCRIPTION:First\, select a handcrafted bowl from a collection donated by area potters. Next\, fill your bowl with a hearty meal of soup\, salad\, bread and dessert prepared by Executive Chef Steve Cipriano.  Enjoy live music and the company of new and old friends. Take your bowl home with you to keep as a reminder of hunger in our local and global communities.\n\nAll proceeds from this event will go directly to the Clay and Cherokee County Food Banks.
X-ALT-DESC;FMTTYPE=text/html:<span style="color:black\;"><span style="font-family:times new roman\,serif\;">First\, select a handcrafted bowl from a collection donated by area potters. Next\, fill your bowl with a hearty meal of soup\, salad\, bread and dessert prepared by Executive Chef Steve Cipriano. &nbsp\;Enjoy live music and the company of new and old friends. Take your bowl home with you to keep as a reminder of hunger in our local and global communities.</span></span><br />\n<em><span style="text-align:start\;-webkit-text-stroke-width:0px\;word-spacing:0px\;"><span style="color:black\;"><span style="font-family:arial\,sans-serif\;"><span style="font-size:8.0pt\;">All proceeds from this event will go directly to the Clay and Cherokee County Food Banks. </span></span></span></span></em>
LOCATION:John C. Campbell Folk School One Folk School Road Brasstown NC 28902
UID:e.256.28608
SEQUENCE:3
DTSTAMP:20260423T211552Z
URL:https://members.visitblairsvillega.com/events/details/empty-bowls-03-14-2015-28608
END:VEVENT

END:VCALENDAR
