BEGIN:VCALENDAR
VERSION:2.0
PRODID:-//ChamberMaster//Event Calendar 2.0//EN
METHOD:PUBLISH
X-PUBLISHED-TTL:P3D
REFRESH-INTERVAL:P3D
CALSCALE:GREGORIAN
BEGIN:VEVENT
DTSTART:20151205T230000Z
DTEND:20151206T000000Z
X-MICROSOFT-CDO-ALLDAYEVENT:FALSE
SUMMARY:Enota CASA presents the Lighting of the Blairsville Luminaries
DESCRIPTION:CASA stands for Court Appointed Special Advocate and these volunteers represent the interest of children who find themselves in the court & foster care system through no fault of their own.  BUY A LUMINARY!!!  A luminary may be in memory of friends or family (including 4 legged family members\, too)\, or to honor a loved one's milestone or noteworthy accomplishment(graduation\, new job)\, or to celebrate one of life's great big or little events (new grand baby\, an achievement\, engagement or anniversary!)
X-ALT-DESC;FMTTYPE=text/html:CASA stands for Court Appointed Special Advocate and these volunteers represent the interest of children who find themselves in the court &amp\; foster care system through no fault of their own.&nbsp\; BUY A LUMINARY!!!&nbsp\; A luminary may be in memory of friends or family (including 4 legged family members\, too)\, or to honor a loved one&#39\;s milestone or noteworthy accomplishment(graduation\, new job)\, or to celebrate one of life&#39\;s great big or little events (new grand baby\, an achievement\, engagement or anniversary!)
LOCATION:Lighting up the downtown square in Blairsville\, Georgia.
UID:e.256.45020
SEQUENCE:3
DTSTAMP:20260421T074830Z
URL:https://members.visitblairsvillega.com/events/details/enota-casa-presents-the-lighting-of-the-blairsville-luminaries-12-05-2015-45020
END:VEVENT

END:VCALENDAR
