BEGIN:VCALENDAR
VERSION:2.0
PRODID:-//ChamberMaster//Event Calendar 2.0//EN
METHOD:PUBLISH
X-PUBLISHED-TTL:P3D
REFRESH-INTERVAL:P3D
CALSCALE:GREGORIAN
BEGIN:VEVENT
DTSTART;VALUE=DATE:20140204
DTEND;VALUE=DATE:20140205
TRANSP:TRANSPARENT
X-MICROSOFT-CDO-ALLDAYEVENT:TRUE
SUMMARY:ENOTA Volunteer Classes
DESCRIPTION:New volunteer training classes begin on February 4\, 2014. Come see what it's all about and find out how you can help abused and neglected children right here in our community.\n\nFor more information call 706-864-0300 or email to dyann@enotahcasa.org
X-ALT-DESC;FMTTYPE=text/html:New volunteer training classes begin on February 4\, 2014. Come see what it&#39\;s all about and find out how you can help abused and neglected children right here in our community.<br />\n<em><strong>For more information call 706-864-0300 or email to dyann@enotahcasa.org </strong></em>
LOCATION:
UID:e.256.21854
SEQUENCE:3
DTSTAMP:20260424T180439Z
URL:https://members.visitblairsvillega.com/events/details/enota-volunteer-classes-02-04-2014-21854
END:VEVENT

END:VCALENDAR
