BEGIN:VCALENDAR
VERSION:2.0
PRODID:-//ChamberMaster//Event Calendar 2.0//EN
METHOD:PUBLISH
X-PUBLISHED-TTL:P3D
REFRESH-INTERVAL:P3D
CALSCALE:GREGORIAN
BEGIN:VEVENT
DTSTART:20150909T203000Z
DTEND:20150909T223000Z
X-MICROSOFT-CDO-ALLDAYEVENT:FALSE
SUMMARY:Enotah CASA Open House
DESCRIPTION:Please join us to learn how you can be an advocate for abused and neglected children.
X-ALT-DESC;FMTTYPE=text/html:<span style="color:rgb(255\, 0\, 0)"><span style="font-size:18px"><span style="font-family:arial\,helvetica\,sans-serif"><strong>Please join us to learn how you can be an advocate for abused and neglected children.</strong></span></span></span>
LOCATION:Sharp Memorial UMC 1114 Main St. Young Harris\, GA
UID:e.256.43440
SEQUENCE:3
DTSTAMP:20260423T121827Z
URL:https://members.visitblairsvillega.com/events/details/enotah-casa-open-house-09-09-2015-43440
END:VEVENT

END:VCALENDAR
