BEGIN:VCALENDAR
VERSION:2.0
PRODID:-//ChamberMaster//Event Calendar 2.0//EN
METHOD:PUBLISH
X-PUBLISHED-TTL:P3D
REFRESH-INTERVAL:P3D
CALSCALE:GREGORIAN
BEGIN:VEVENT
DTSTART:20170627T153000Z
DTEND:20170627T170000Z
X-MICROSOFT-CDO-ALLDAYEVENT:FALSE
SUMMARY:Enotah CASA Open House-Advocates and Ambassadors
DESCRIPTION:Come for a lite lunch and learn how you can help abused and neglected children in Union County.  Enotah CASA will host a meet and greet reception and share information about how you can become an advocate for children.  We also have opportunities for individuals to become an ambassodor for CASA and help with events\, chair a project\, or make presentations to organizations about CASA.
X-ALT-DESC;FMTTYPE=text/html:Come for a <strong>lite lunch</strong> and learn how you can help abused and neglected children in Union County.&nbsp\; Enotah CASA will host a meet and greet reception and share information about how you can <strong>become an advocate for children</strong>.&nbsp\; We also have opportunities for individuals to <strong>become an ambassodor for CASA</strong> and help with events\, chair a project\, or make presentations to organizations about CASA.
LOCATION:Union County Community Center 129 Union County Recreation Road Blairsville\, GA 30512
UID:e.256.74164
SEQUENCE:3
DTSTAMP:20260419T233428Z
URL:https://members.visitblairsvillega.com/events/details/enotah-casa-open-house-advocates-and-ambassadors-74164
END:VEVENT

END:VCALENDAR
