BEGIN:VCALENDAR
VERSION:2.0
PRODID:-//ChamberMaster//Event Calendar 2.0//EN
METHOD:PUBLISH
X-PUBLISHED-TTL:P3D
REFRESH-INTERVAL:P3D
CALSCALE:GREGORIAN
BEGIN:VEVENT
DTSTART:20151010T140000Z
DTEND:20151010T200000Z
X-MICROSOFT-CDO-ALLDAYEVENT:FALSE
SUMMARY:Enotah CASA Volunteer Training Class
DESCRIPTION:This training is to become a Court Appointed Special Advocate (CASA).  CASA's are appointed by a judge and help give abused and neglected children a voice. This class will take place for four Saturday's in a row.
X-ALT-DESC;FMTTYPE=text/html:This training is to become a Court Appointed Special Advocate (CASA). &nbsp\;CASA&#39\;s are appointed by a judge and help give abused and neglected children a voice. This class will take place for four Saturday&#39\;s in a row.
LOCATION:Mountain Presbyterian Church 3831 Hwy 515 East
UID:e.256.43953
SEQUENCE:3
DTSTAMP:20260423T115705Z
URL:https://members.visitblairsvillega.com/events/details/enotah-casa-volunteer-training-class-10-10-2015-43953
END:VEVENT

END:VCALENDAR
