BEGIN:VCALENDAR
VERSION:2.0
PRODID:-//ChamberMaster//Event Calendar 2.0//EN
METHOD:PUBLISH
X-PUBLISHED-TTL:P3D
REFRESH-INTERVAL:P3D
CALSCALE:GREGORIAN
BEGIN:VEVENT
DTSTART:20160610T140000Z
DTEND:20160610T190000Z
X-MICROSOFT-CDO-ALLDAYEVENT:FALSE
SUMMARY:Entrepreneur Weekend
DESCRIPTION:Learn about beautiful Blairsville\, Ga and all that we can offer to your business and family. World-class broadband\, centralized location to many Southeastern hubs\, and a pro-business environment make Blairsville-Union County an incredible place to do business. Hear from business owners in the area and local officials about the unique opportunities available to your business - only in Blairsville.\n\n\n\nWhat to expect:\n\n	Q&A with local business owners\n	Meet with city and county officials including Mayor Jim Conley and County Commissioner Lamar Paris\n	Tour areas of Blairsville best suited to your industry\n	Learn about Blairsville-Union County's pro-business environment\, including highly competitive financing\, tax\, and training incentives\n	Trade show with bankers\, realtors\, and key players in the Union County business Community\n	Stay and explore all that Blairsville has to offer including the Farmers Market\, restaurants\, outdoor activities\, and the Scottish Festival & Highland Games on June 11th & 12th
X-ALT-DESC;FMTTYPE=text/html:Learn about beautiful Blairsville\, Ga and all that we can offer to your business and family. World-class broadband\, centralized location to many Southeastern hubs\, and a pro-business environment make Blairsville-Union County an incredible place to do business. Hear from business owners in the area and local officials about the unique opportunities available to your business - only in Blairsville.<br />\n<br />\nWhat to expect:\n<ul>\n	<li>Q&amp\;A with local business owners</li>\n	<li>Meet with city and county officials including Mayor Jim Conley and County Commissioner Lamar Paris</li>\n	<li>Tour areas of Blairsville best suited to your industry</li>\n	<li>Learn about Blairsville-Union County&#39\;s pro-business environment\, including highly competitive financing\, tax\, and training incentives</li>\n	<li>Trade show with bankers\, realtors\, and key players in the Union County business Community</li>\n	<li>Stay and explore all that Blairsville has to offer including the Farmers Market\, restaurants\, outdoor activities\, and the Scottish Festival &amp\; Highland Games on June 11th &amp\; 12th</li>\n</ul>\n
LOCATION:Union County Community Center 129 Union County Recreation Road Blairsville\, Ga 30512
UID:e.256.50922
SEQUENCE:3
DTSTAMP:20260420T202556Z
URL:https://members.visitblairsvillega.com/events/details/entrepreneur-weekend-06-10-2016-50922
END:VEVENT

END:VCALENDAR
